BEGIN:VCALENDAR
VERSION:2.0
METHOD:PUBLISH
PRODID:-//hacksw/handcal//NONSGML v1.0//EN
BEGIN:VEVENT
DTSTAMP:20260421T220004Z
DTSTART:20250827T140000Z
DTEND:20250827T153000Z
UID:20250827T140000Z-20250827T153000Z-2658@dnrec.delaware.gov
SUMMARY:Small Fry Adventures
DESCRIPTION:Bring your youngsters out for some small fry adventures.
X-ALT-DESC;FMTTYPE=text/html:<p>Bring your youngsters out for some sma
 ll fry adventures.</p>\n
URL:https://dnrec.delaware.gov/events/small-fry-adventures-10/?lang=en
ATTACH:https://dnrec.delaware.gov/events/small-fry-adventures-10/?lang
 =en
LOCATION:Aquatic Resources Education Center\, 2520 Lighthouse Road\, S
 myrna
END:VEVENT
END:VCALENDAR
