BEGIN:VCALENDAR
VERSION:2.0
METHOD:PUBLISH
PRODID:-//hacksw/handcal//NONSGML v1.0//EN
BEGIN:VEVENT
DTSTAMP:20260421T220006Z
DTSTART:20250620T140000Z
DTEND:20250620T150000Z
UID:20250620T140000Z-20250620T150000Z-2649@dnrec.delaware.gov
SUMMARY:Horseshoe Crab Sing-Along
DESCRIPTION:Have you ever wanted to make up your own song?
X-ALT-DESC;FMTTYPE=text/html:<p>Have you ever wanted to make up your o
 wn song?</p>\n
URL:https://dnrec.delaware.gov/events/horseshoe-crab-sing-along/?lang=
 en
ATTACH:https://dnrec.delaware.gov/events/horseshoe-crab-sing-along/?la
 ng=en
LOCATION:DuPont Nature Center\, 2992 Lighthouse Rd.\, Milford
END:VEVENT
END:VCALENDAR
