BEGIN:VCALENDAR
VERSION:2.0
METHOD:PUBLISH
PRODID:-//hacksw/handcal//NONSGML v1.0//EN
BEGIN:VEVENT
DTSTAMP:20260421T203215Z
DTSTART:20250621T150000Z
DTEND:20250621T150000Z
UID:20250621T150000Z-20250621T150000Z-2640@dnrec.delaware.gov
SUMMARY:Storybook Saturday
DESCRIPTION:Gather the kids to enjoy story time with our Naturalists h
 ere at the Nature Center.
X-ALT-DESC;FMTTYPE=text/html:<p>Gather the kids to enjoy story time wi
 th our Naturalists here at the Nature Center.</p>\n
URL:https://dnrec.delaware.gov/events/storybook-saturday-5/?lang=en
ATTACH:https://dnrec.delaware.gov/events/storybook-saturday-5/?lang=en
LOCATION:DuPont Nature Center\, 2992 Lighthouse Rd.\, Milford
END:VEVENT
END:VCALENDAR
