BEGIN:VCALENDAR
VERSION:2.0
METHOD:PUBLISH
PRODID:-//hacksw/handcal//NONSGML v1.0//EN
BEGIN:VEVENT
DTSTAMP:20260422T152938Z
DTSTART:20250602T170000Z
DTEND:20250602T190000Z
UID:20250602T170000Z-20250602T190000Z-2625@dnrec.delaware.gov
SUMMARY:Technical Climate Advisors
DESCRIPTION:A meeting of the Technical Climate Advisors to the Departm
 ent of Natural Resources and Environmental Control (DNREC).
X-ALT-DESC;FMTTYPE=text/html:<p>A meeting of the Technical Climate Adv
 isors to the Department of Natural Resources and Environmental Control
  (DNREC).</p>\n
URL:https://dnrec.delaware.gov/events/technical-climate-advisors-5/?la
 ng=en
ATTACH:https://dnrec.delaware.gov/events/technical-climate-advisors-5/
 ?lang=en
LOCATION:025 Townsend Hall\, 531 South College Avenue\, Newark
END:VEVENT
END:VCALENDAR
