BEGIN:VCALENDAR
VERSION:2.0
METHOD:PUBLISH
PRODID:-//hacksw/handcal//NONSGML v1.0//EN
BEGIN:VEVENT
DTSTAMP:20260422T024718Z
DTSTART:20250517T170000Z
DTEND:20250517T170000Z
UID:20250517T170000Z-20250517T170000Z-2598@dnrec.delaware.gov
SUMMARY:Horseshoe Crab Beach Walk
DESCRIPTION:It’s horseshoe crab season here in the Delaware Bay! As th
 ousands of crabs make their way onto our beaches join us to watch this
  amazing event and learn all about what makes these ancient creatures 
 so amazing. All ages welcome\, no registration required. Will involve 
 walking around half a mile on the beach.
X-ALT-DESC;FMTTYPE=text/html:It’s horseshoe crab season here in the De
 laware Bay! As thousands of crabs make their way onto our beaches join
  us to watch this amazing event and learn all about what makes these a
 ncient creatures so amazing. All ages welcome\, no registration requir
 ed. Will involve walking around half a mile on the beach.
URL:https://dnrec.delaware.gov/events/horseshoe-crab-beach-walk-2/?lan
 g=en
ATTACH:https://dnrec.delaware.gov/events/horseshoe-crab-beach-walk-2/?
 lang=en
LOCATION:Marvel Drive Parking Lot\, Bay Ave. and Marvel Drive\, Slaugh
 ter Beach
END:VEVENT
END:VCALENDAR
