BEGIN:VCALENDAR
VERSION:2.0
METHOD:PUBLISH
PRODID:-//hacksw/handcal//NONSGML v1.0//EN
BEGIN:VEVENT
DTSTAMP:20260422T024339Z
DTSTART:20250517T150000Z
DTEND:20250517T150000Z
UID:20250517T150000Z-20250517T150000Z-2594@dnrec.delaware.gov
SUMMARY:Storybook Saturday
DESCRIPTION:Gather the kids to enjoy story time with our Naturalists h
 ere at the Nature Center.  We will read a specially selected book abou
 t life near the water and follow it up with a fun activity that is gre
 at for kids (and their grown-ups).
X-ALT-DESC;FMTTYPE=text/html:Gather the kids to enjoy story time with 
 our Naturalists here at the Nature Center.  We will read a specially s
 elected book about life near the water and follow it up with a fun act
 ivity that is great for kids (and their grown-ups).
URL:https://dnrec.delaware.gov/events/storybook-saturday-3/?lang=en
ATTACH:https://dnrec.delaware.gov/events/storybook-saturday-3/?lang=en
LOCATION:DuPont Nature Center\, 2992 Lighthouse Rd.\, Milford
END:VEVENT
END:VCALENDAR
