BEGIN:VCALENDAR
VERSION:2.0
METHOD:PUBLISH
PRODID:-//hacksw/handcal//NONSGML v1.0//EN
BEGIN:VEVENT
DTSTAMP:20260422T170237Z
DTSTART:20250428T183000Z
DTEND:20250428T203000Z
UID:20250428T183000Z-20250428T203000Z-2587@dnrec.delaware.gov
SUMMARY:Technical Climate Advisors
DESCRIPTION:A meeting of the Technical Climate Advisors to the Departm
 ent of Natural Resources and Environmental Control (DNREC).
X-ALT-DESC;FMTTYPE=text/html:<p>A meeting of the Technical Climate Adv
 isors to the Department of Natural Resources and Environmental Control
  (DNREC).</p>\n
URL:https://dnrec.delaware.gov/events/technical-climate-advisors-4/?la
 ng=en
ATTACH:https://dnrec.delaware.gov/events/technical-climate-advisors-4/
 ?lang=en
LOCATION:State Street Commons\, Suite 5A\, 100 W. Water Street\, Dover
END:VEVENT
END:VCALENDAR
