BEGIN:VCALENDAR
VERSION:2.0
METHOD:PUBLISH
PRODID:-//hacksw/handcal//NONSGML v1.0//EN
BEGIN:VEVENT
DTSTAMP:20260421T220002Z
DTSTART:20250419T190000Z
DTEND:20250419T200000Z
UID:20250419T190000Z-20250419T200000Z-2563@dnrec.delaware.gov
SUMMARY:Beachcombing with DuPont Nature Center Naturalists
DESCRIPTION:Meet at the beach and walk the shoreline with a naturalist
 .
X-ALT-DESC;FMTTYPE=text/html:<p>Meet at the beach and walk the shoreli
 ne with a naturalist.</p>\n
URL:https://dnrec.delaware.gov/events/beachcombing-with-dupont-nature-
 center-naturalists-28/?lang=en
ATTACH:https://dnrec.delaware.gov/events/beachcombing-with-dupont-natu
 re-center-naturalists-28/?lang=en
LOCATION:Slaughter Beach Pavilion\, 359 Bay Avenue\, Milford
END:VEVENT
END:VCALENDAR
