BEGIN:VCALENDAR
VERSION:2.0
METHOD:PUBLISH
PRODID:-//hacksw/handcal//NONSGML v1.0//EN
BEGIN:VEVENT
DTSTAMP:20260421T202741Z
DTSTART:20250422T140000Z
DTEND:20250422T200000Z
UID:20250422T140000Z-20250422T200000Z-2536@dnrec.delaware.gov
SUMMARY:Slaughter Beach Earth Day Cleanup
DESCRIPTION:Celebrate Earth Day by getting outside and helping the env
 ironment.
X-ALT-DESC;FMTTYPE=text/html:<p>Celebrate Earth Day by getting outside
  and helping the environment.</p>\n
URL:https://dnrec.delaware.gov/events/slaughter-beach-earth-day-cleanu
 p/?lang=en
ATTACH:https://dnrec.delaware.gov/events/slaughter-beach-earth-day-cle
 anup/?lang=en
LOCATION:Slaughter Beach Pavilion\, 359 Bay Avenue\, Milford
END:VEVENT
END:VCALENDAR
