BEGIN:VCALENDAR
VERSION:2.0
METHOD:PUBLISH
PRODID:-//hacksw/handcal//NONSGML v1.0//EN
BEGIN:VEVENT
DTSTAMP:20260421T202745Z
DTSTART:20250425T130000Z
DTEND:20250425T170000Z
UID:20250425T130000Z-20250425T170000Z-2533@dnrec.delaware.gov
SUMMARY:Bellevue Spring Tree Planting
DESCRIPTION:Join volunteers with Delaware State Parks to plant trees a
 t Bellevue State Park.
X-ALT-DESC;FMTTYPE=text/html:<p>Join volunteers with Delaware State Pa
 rks to plant trees at Bellevue State Park.</p>\n
URL:https://dnrec.delaware.gov/events/bellevue-spring-tree-planting-2/
 ?lang=en
ATTACH:https://dnrec.delaware.gov/events/bellevue-spring-tree-planting
 -2/?lang=en
LOCATION:Bellevue State Park\, 800 Carr Road\, Wilmington
END:VEVENT
END:VCALENDAR
