BEGIN:VCALENDAR
VERSION:2.0
METHOD:PUBLISH
PRODID:-//hacksw/handcal//NONSGML v1.0//EN
BEGIN:VEVENT
DTSTAMP:20260421T202739Z
DTSTART:20250322T133000Z
DTEND:20250322T193000Z
UID:20250322T133000Z-20250322T193000Z-2519@dnrec.delaware.gov
SUMMARY:Boating Safety Class
DESCRIPTION:Earn your Delaware Safe Boating Certificate with this cour
 se.
X-ALT-DESC;FMTTYPE=text/html:<p>Earn your Delaware Safe Boating Certif
 icate with this course.</p>\n
URL:https://dnrec.delaware.gov/events/boating-safety-class-14/?lang=en
ATTACH:https://dnrec.delaware.gov/events/boating-safety-class-14/?lang
 =en
LOCATION:Harrington Public Library\, 110 E. Center Street\, Harrington
END:VEVENT
END:VCALENDAR
