BEGIN:VCALENDAR
VERSION:2.0
METHOD:PUBLISH
PRODID:-//hacksw/handcal//NONSGML v1.0//EN
BEGIN:VEVENT
DTSTAMP:20260424T000206Z
DTSTART:20250228T150000Z
DTEND:20250228T163000Z
UID:20250228T150000Z-20250228T163000Z-2510@dnrec.delaware.gov
SUMMARY:Climate Officers Meeting
DESCRIPTION:A kick-off meeting for a group of climate officers from ke
 y state agencies.
X-ALT-DESC;FMTTYPE=text/html:<p>A kick-off meeting for a group of clim
 ate officers from key state agencies.</p>\n
URL:https://dnrec.delaware.gov/events/climate-officers-meeting/?lang=e
 n
ATTACH:https://dnrec.delaware.gov/events/climate-officers-meeting/?lan
 g=en
LOCATION:A Virtual Meeting\, See Connection Information\,
END:VEVENT
END:VCALENDAR
