BEGIN:VCALENDAR
VERSION:2.0
METHOD:PUBLISH
PRODID:-//hacksw/handcal//NONSGML v1.0//EN
BEGIN:VEVENT
DTSTAMP:20260421T201929Z
DTSTART:20250405T120000Z
DTEND:20250405T200000Z
UID:20250405T120000Z-20250405T200000Z-2509@dnrec.delaware.gov
SUMMARY:Boating Safety Class
DESCRIPTION:Earn your Delaware Safe Boating Certificate with this cour
 se.
X-ALT-DESC;FMTTYPE=text/html:<p>Earn your Delaware Safe Boating Certif
 icate with this course.</p>\n
URL:https://dnrec.delaware.gov/events/boating-safety-class-13/?lang=en
ATTACH:https://dnrec.delaware.gov/events/boating-safety-class-13/?lang
 =en
LOCATION:DNREC Lewes Field Office\, 901 Pilottown Rd.\, Lewes
END:VEVENT
END:VCALENDAR
