BEGIN:VCALENDAR
VERSION:2.0
METHOD:PUBLISH
PRODID:-//hacksw/handcal//NONSGML v1.0//EN
BEGIN:VEVENT
DTSTAMP:20260421T202609Z
DTSTART:20250517T120000Z
DTEND:20250517T200000Z
UID:20250517T120000Z-20250517T200000Z-2493@dnrec.delaware.gov
SUMMARY:Boating Safety Class
DESCRIPTION:Earn your Delaware Safe Boating Certificate with this cour
 se.
X-ALT-DESC;FMTTYPE=text/html:<p>Earn your Delaware Safe Boating Certif
 icate with this course.</p>\n
URL:https://dnrec.delaware.gov/events/boating-safety-class-11/?lang=en
ATTACH:https://dnrec.delaware.gov/events/boating-safety-class-11/?lang
 =en
LOCATION:Gulls Way Campground\, 30738 Gullsway Dr.\, Dagsboro
END:VEVENT
END:VCALENDAR
