BEGIN:VCALENDAR
VERSION:2.0
METHOD:PUBLISH
PRODID:-//hacksw/handcal//NONSGML v1.0//EN
BEGIN:VEVENT
DTSTAMP:20260425T163440Z
DTSTART:20250325T123000Z
DTEND:20250325T200000Z
UID:20250325T123000Z-20250325T200000Z-2478@dnrec.delaware.gov
SUMMARY:Introduction to Living Shorelines
DESCRIPTION:Register for professional training focused on the process 
 and components of living shorelines in Delaware.
X-ALT-DESC;FMTTYPE=text/html:<p>Register for professional training foc
 used on the process and components of living shorelines in Delaware.</
 p>\n
URL:https://dnrec.delaware.gov/events/introduction-to-living-shoreline
 s-3/?lang=en
ATTACH:https://dnrec.delaware.gov/events/introduction-to-living-shorel
 ines-3/?lang=en
LOCATION:DNREC Lewes Field Office\, 901 Pilottown Rd.\, Lewes
END:VEVENT
END:VCALENDAR
