BEGIN:VCALENDAR
VERSION:2.0
METHOD:PUBLISH
PRODID:-//hacksw/handcal//NONSGML v1.0//EN
BEGIN:VEVENT
DTSTAMP:20260421T220002Z
DTSTART:20250206T210000Z
DTEND:20250206T220000Z
UID:20250206T210000Z-20250206T220000Z-2458@dnrec.delaware.gov
SUMMARY:DuPont Nature Center Winter Lecture Series: A “Tick Talk”
DESCRIPTION:Learn all about the ticks in Delaware and what you can do 
 to protect yourself from tick bites.
X-ALT-DESC;FMTTYPE=text/html:<p>Learn all about the ticks in Delaware 
 and what you can do to protect yourself from tick bites.</p>\n
URL:https://dnrec.delaware.gov/events/dupont-nature-center-winter-lect
 ure-series-a-e2-80-9ctick-talk-e2-80-9d/?lang=en
ATTACH:https://dnrec.delaware.gov/events/dupont-nature-center-winter-l
 ecture-series-a-e2-80-9ctick-talk-e2-80-9d/?lang=en
LOCATION:DuPont Nature Center\, 2992 Lighthouse Rd.\, Milford
END:VEVENT
END:VCALENDAR
