BEGIN:VCALENDAR
VERSION:2.0
METHOD:PUBLISH
PRODID:-//hacksw/handcal//NONSGML v1.0//EN
BEGIN:VEVENT
DTSTAMP:20260422T024715Z
DTSTART:20250130T210000Z
DTEND:20250130T220000Z
UID:20250130T210000Z-20250130T220000Z-2457@dnrec.delaware.gov
SUMMARY:DuPont Nature Center Winter Lecture Series: The Delaware Shore
 bird Program
DESCRIPTION:Learn about the monitoring and studying of the shorebirds 
 that frequent Delaware’s coast.
X-ALT-DESC;FMTTYPE=text/html:<p>Learn about the monitoring and studyin
 g of the shorebirds that frequent Delaware’s coast.</p>\n
URL:https://dnrec.delaware.gov/events/dupont-nature-center-winter-lect
 ure-series-the-delaware-shorebird-program/?lang=en
ATTACH:https://dnrec.delaware.gov/events/dupont-nature-center-winter-l
 ecture-series-the-delaware-shorebird-program/?lang=en
LOCATION:DuPont Nature Center\, 2992 Lighthouse Rd.\, Milford
END:VEVENT
END:VCALENDAR
