BEGIN:VCALENDAR
VERSION:2.0
METHOD:PUBLISH
PRODID:-//hacksw/handcal//NONSGML v1.0//EN
BEGIN:VEVENT
DTSTAMP:20260421T220907Z
DTSTART:20250423T200000Z
DTEND:20250423T210000Z
UID:20250423T200000Z-20250423T210000Z-2455@dnrec.delaware.gov
SUMMARY:Earth Week Lecture: Delaware’s Wildlife Action Plan
DESCRIPTION:Come learn about the Delaware Wildlife Action Plan in a sp
 ecial Earth Week lecture.
X-ALT-DESC;FMTTYPE=text/html:<p>Come learn about the Delaware Wildlife
  Action Plan in a special Earth Week lecture.</p>\n
URL:https://dnrec.delaware.gov/events/dupont-nature-center-winter-lect
 ure-series-delaware-e2-80-99s-wildlife-action-plan/?lang=en
ATTACH:https://dnrec.delaware.gov/events/dupont-nature-center-winter-l
 ecture-series-delaware-e2-80-99s-wildlife-action-plan/?lang=en
LOCATION:DuPont Nature Center\, 2992 Lighthouse Rd.\, Milford
END:VEVENT
END:VCALENDAR
