BEGIN:VCALENDAR
VERSION:2.0
METHOD:PUBLISH
PRODID:-//hacksw/handcal//NONSGML v1.0//EN
BEGIN:VEVENT
DTSTAMP:20260422T024338Z
DTSTART:20250115T230000Z
DTEND:20250116T010000Z
UID:20250115T230000Z-20250116T010000Z-2442@dnrec.delaware.gov
SUMMARY:Estuary Bingo Night
DESCRIPTION:Join the Delaware National Estuarine Research Reserve (DNE
 RR) education team for a night of estuary themed bingo.
X-ALT-DESC;FMTTYPE=text/html:<p>Join the Delaware National Estuarine R
 esearch Reserve (DNERR) education team for a night of estuary themed b
 ingo.</p>\n
URL:https://dnrec.delaware.gov/events/estuary-bingo-night/?lang=en
ATTACH:https://dnrec.delaware.gov/events/estuary-bingo-night/?lang=en
LOCATION:St. Jones Reserve\, 818 Kitts Hummock Rd.\, Dover
END:VEVENT
END:VCALENDAR
