BEGIN:VCALENDAR
VERSION:2.0
METHOD:PUBLISH
PRODID:-//hacksw/handcal//NONSGML v1.0//EN
BEGIN:VEVENT
DTSTAMP:20260421T220008Z
DTSTART:20250111T150000Z
DTEND:20250111T163000Z
UID:20250111T150000Z-20250111T163000Z-2441@dnrec.delaware.gov
SUMMARY:Tea Time Fun with History and Science
DESCRIPTION:Sip tea while learning about the historical purposes of te
 a and how it is used for innovative research.
X-ALT-DESC;FMTTYPE=text/html:<p>Sip tea while learning about the histo
 rical purposes of tea and how it is used for innovative research.</p>\
 n
URL:https://dnrec.delaware.gov/events/tea-time-fun-with-history-and-sc
 ience-2/?lang=en
ATTACH:https://dnrec.delaware.gov/events/tea-time-fun-with-history-and
 -science-2/?lang=en
LOCATION:St. Jones Reserve\, 818 Kitts Hummock Rd.\, Dover
END:VEVENT
END:VCALENDAR
