BEGIN:VCALENDAR
VERSION:2.0
METHOD:PUBLISH
PRODID:-//hacksw/handcal//NONSGML v1.0//EN
BEGIN:VEVENT
DTSTAMP:20260422T024716Z
DTSTART:20241220T180000Z
DTEND:20241220T190000Z
UID:20241220T180000Z-20241220T190000Z-2426@dnrec.delaware.gov
SUMMARY:Wildlife Talk Fridays
DESCRIPTION:Join DuPont Nature Center naturalists to explore the speci
 es that call the Delaware Bay home.
X-ALT-DESC;FMTTYPE=text/html:<p>Join DuPont Nature Center naturalists 
 to explore the species that call the Delaware Bay home.</p>\n
URL:https://dnrec.delaware.gov/events/wildlife-talk-fridays-3/?lang=en
ATTACH:https://dnrec.delaware.gov/events/wildlife-talk-fridays-3/?lang
 =en
LOCATION:DuPont Nature Center\, 2992 Lighthouse Rd.\, Milford
END:VEVENT
END:VCALENDAR
