BEGIN:VCALENDAR
VERSION:2.0
METHOD:PUBLISH
PRODID:-//hacksw/handcal//NONSGML v1.0//EN
BEGIN:VEVENT
DTSTAMP:20260421T202746Z
DTSTART:20241208T130000Z
DTEND:20241208T180000Z
UID:20241208T130000Z-20241208T180000Z-2404@dnrec.delaware.gov
SUMMARY:Basic Hunter Education Field Day
DESCRIPTION:A full-day in-person field day for graduates of the online
  basic hunter education course.
X-ALT-DESC;FMTTYPE=text/html:<p>A full-day in-person field day for gra
 duates of the online basic hunter education course.</p>\n
URL:https://dnrec.delaware.gov/events/basic-hunter-education-field-day
 -148/?lang=en
ATTACH:https://dnrec.delaware.gov/events/basic-hunter-education-field-
 day-148/?lang=en
LOCATION:Little Creek Hunter Education Training Center\, 3018 Bayside 
 Drive\, Dover
END:VEVENT
END:VCALENDAR
