BEGIN:VCALENDAR
VERSION:2.0
METHOD:PUBLISH
PRODID:-//hacksw/handcal//NONSGML v1.0//EN
BEGIN:VEVENT
DTSTAMP:20260425T102925Z
DTSTART:20241202T190000Z
DTEND:20241202T203000Z
UID:20241202T190000Z-20241202T203000Z-2372@dnrec.delaware.gov
SUMMARY:WIAC Finance Subcommittee
DESCRIPTION:A meeting to review materials for the Water Infrastructure
  Advisory Council.
X-ALT-DESC;FMTTYPE=text/html:<p>A meeting to review materials for the 
 Water Infrastructure Advisory Council.</p>\n
URL:https://dnrec.delaware.gov/events/wiac-finance-subcommittee-12/?la
 ng=en
ATTACH:https://dnrec.delaware.gov/events/wiac-finance-subcommittee-12/
 ?lang=en
LOCATION:New Castle Conservation District\, 2430 Old County Rd.\, Newa
 rk
END:VEVENT
END:VCALENDAR
