BEGIN:VCALENDAR
VERSION:2.0
METHOD:PUBLISH
PRODID:-//hacksw/handcal//NONSGML v1.0//EN
BEGIN:VEVENT
DTSTAMP:20260424T161132Z
DTSTART:20190314T220000Z
DTEND:20190314T220000Z
UID:20190314T220000Z-20190314T220000Z-234@dnrec.delaware.gov
SUMMARY:Public Hearing: Sargio Corporation Application for Bay Vista M
 arina Dredging
DESCRIPTION:The Department of Natural Resources and Environmental Cont
 rol will conduct a public hearing to hear comments on Sargio Corporati
 on’s application to dredge material from Bay Vista Marina\, located at
  the end of Basin Street in Rehoboth Beach\, and to dispose of the mat
 erial on an adjacent upland parcel. (Public Comment Period Closed)
X-ALT-DESC;FMTTYPE=text/html:<p>The Department of Natural Resources an
 d Environmental Control will conduct a public hearing to hear comments
  on Sargio Corporation&#8217\;s application to dredge material from Ba
 y Vista Marina\, located at the end of Basin Street in Rehoboth Beach\
 , and to dispose of the material on an adjacent upland parcel. <strong
 >(Public Comment Period Closed)</strong></p>\n
URL:https://dnrec.delaware.gov/events/public-hearing-bay-vista-marina-
 dredging/?lang=en
ATTACH:https://dnrec.delaware.gov/events/public-hearing-bay-vista-mari
 na-dredging/?lang=en
LOCATION:DNREC Lewes Field Office\, 901 Pilottown Rd.\, Lewes
END:VEVENT
END:VCALENDAR
