BEGIN:VCALENDAR
VERSION:2.0
METHOD:PUBLISH
PRODID:-//hacksw/handcal//NONSGML v1.0//EN
BEGIN:VEVENT
DTSTAMP:20260421T215437Z
DTSTART:20241102T130000Z
DTEND:20241102T200000Z
UID:20241102T130000Z-20241102T200000Z-2331@dnrec.delaware.gov
SUMMARY:Delaware Botanic Gardens Tree Giveaway
DESCRIPTION:Stop by to get a tree that you can plant as part of the Tr
 ee for Every Delawarean Initiative (TEDI).
X-ALT-DESC;FMTTYPE=text/html:<p>Stop by to get a tree that you can pla
 nt as part of the Tree for Every Delawarean Initiative (TEDI).</p>\n
URL:https://dnrec.delaware.gov/events/delaware-botanic-gardens-tree-gi
 veaway-2/?lang=en
ATTACH:https://dnrec.delaware.gov/events/delaware-botanic-gardens-tree
 -giveaway-2/?lang=en
LOCATION:Delaware Botanic Gardens\, 30220 Piney Neck Rd.\, Dagsboro
END:VEVENT
END:VCALENDAR
