BEGIN:VCALENDAR
VERSION:2.0
METHOD:PUBLISH
PRODID:-//hacksw/handcal//NONSGML v1.0//EN
BEGIN:VEVENT
DTSTAMP:20260425T102924Z
DTSTART:20240909T180000Z
DTEND:20240909T193000Z
UID:20240909T180000Z-20240909T193000Z-2328@dnrec.delaware.gov
SUMMARY:WIAC Finance Subcommittee
DESCRIPTION:A meeting to review materials for the Water Infrastructure
  Advisory Council.
X-ALT-DESC;FMTTYPE=text/html:<p>A meeting to review materials for the 
 Water Infrastructure Advisory Council.</p>\n
URL:https://dnrec.delaware.gov/events/wiac-finance-subcommittee-11/?la
 ng=en
ATTACH:https://dnrec.delaware.gov/events/wiac-finance-subcommittee-11/
 ?lang=en
LOCATION:New Castle Conservation District\, 2430 Old County Rd.\, Newa
 rk
END:VEVENT
END:VCALENDAR
