BEGIN:VCALENDAR
VERSION:2.0
METHOD:PUBLISH
PRODID:-//hacksw/handcal//NONSGML v1.0//EN
BEGIN:VEVENT
DTSTAMP:20260423T195119Z
DTSTART:20241113T230000Z
DTEND:20241114T003000Z
UID:20241113T230000Z-20241114T003000Z-2317@dnrec.delaware.gov
SUMMARY:Cape Henlopen State Park Public Workshop
DESCRIPTION:Join a public workshop to review campground improvements a
 t Cape Henlopen State Park.
X-ALT-DESC;FMTTYPE=text/html:<p>Join a public workshop to review campg
 round improvements at Cape Henlopen State Park.</p>\n
URL:https://dnrec.delaware.gov/events/cape-henlopen-state-park-public-
 workshop/?lang=en
ATTACH:https://dnrec.delaware.gov/events/cape-henlopen-state-park-publ
 ic-workshop/?lang=en
LOCATION:A Virtual Workshop\, See Connection Information\,
END:VEVENT
END:VCALENDAR
