BEGIN:VCALENDAR
VERSION:2.0
METHOD:PUBLISH
PRODID:-//hacksw/handcal//NONSGML v1.0//EN
BEGIN:VEVENT
DTSTAMP:20260422T024718Z
DTSTART:20240921T170000Z
DTEND:20240921T180000Z
UID:20240921T170000Z-20240921T180000Z-2305@dnrec.delaware.gov
SUMMARY:Feeding Time at the DuPont Nature Center
DESCRIPTION:Join DuPont Nature Center Naturalists as they feed some of
  their aquatic friends.
X-ALT-DESC;FMTTYPE=text/html:<p>Join DuPont Nature Center Naturalists 
 as they feed some of their aquatic friends. </p>\n
URL:https://dnrec.delaware.gov/events/feeding-time-at-the-dupont-natur
 e-center-116/?lang=en
ATTACH:https://dnrec.delaware.gov/events/feeding-time-at-the-dupont-na
 ture-center-116/?lang=en
LOCATION:DuPont Nature Center\, 2992 Lighthouse Rd.\, Milford
END:VEVENT
END:VCALENDAR
