BEGIN:VCALENDAR
VERSION:2.0
METHOD:PUBLISH
PRODID:-//hacksw/handcal//NONSGML v1.0//EN
BEGIN:VEVENT
DTSTAMP:20260421T170416Z
DTSTART:20190110T110000Z
DTEND:20190110T230000Z
UID:20190110T110000Z-20190110T230000Z-230@dnrec.delaware.gov
SUMMARY:Bloom Energy Air Quality Permit Hearing
DESCRIPTION:Bloom Energy (Diamond State Generating Partners) has submi
 tted a natural minor permit application to replace all fuel cells at t
 heir Red Lion site located at 1593 River Road\, New Castle and their B
 rookside site located at 512 E. Chestnut Hill Road\, Newark. (Public C
 omment Period Closed)
X-ALT-DESC;FMTTYPE=text/html:<p>Bloom Energy (Diamond State Generating
  Partners) has submitted a natural minor permit application to replace
  all fuel cells at their Red Lion site located at 1593 River Road\, Ne
 w Castle and their Brookside site located at 512 E. Chestnut Hill Road
 \, Newark. (<strong>Public Comment Period Closed</strong>)</p>\n
URL:https://dnrec.delaware.gov/events/bloom-energy-air-quality-permit-
 hearing/?lang=en
ATTACH:https://dnrec.delaware.gov/events/bloom-energy-air-quality-perm
 it-hearing/?lang=en
LOCATION:DNREC Lukens Drive Offices\, 391 Lukens Dr.\, New Castle
END:VEVENT
END:VCALENDAR
