BEGIN:VCALENDAR
VERSION:2.0
METHOD:PUBLISH
PRODID:-//hacksw/handcal//NONSGML v1.0//EN
BEGIN:VEVENT
DTSTAMP:20260422T024716Z
DTSTART:20240922T170000Z
DTEND:20240922T183000Z
UID:20240922T170000Z-20240922T183000Z-2281@dnrec.delaware.gov
SUMMARY:Fall Hike at Blackbird Creek
DESCRIPTION:Join a fall hike at Blackbird Creek Reserve.
X-ALT-DESC;FMTTYPE=text/html:<p>Join a fall hike at Blackbird Creek Re
 serve.</p>\n
URL:https://dnrec.delaware.gov/events/fall-hike-at-blackbird-creek-3/?
 lang=en
ATTACH:https://dnrec.delaware.gov/events/fall-hike-at-blackbird-creek-
 3/?lang=en
LOCATION:Blackbird Creek Reserve\, 801 Blackbird Landing Rd.\, Townsen
 d
END:VEVENT
END:VCALENDAR
