BEGIN:VCALENDAR
VERSION:2.0
METHOD:PUBLISH
PRODID:-//hacksw/handcal//NONSGML v1.0//EN
BEGIN:VEVENT
DTSTAMP:20260421T203216Z
DTSTART:20240922T143000Z
DTEND:20240922T160000Z
UID:20240922T143000Z-20240922T160000Z-2280@dnrec.delaware.gov
SUMMARY:Pokémon GO Hike at Blackbird
DESCRIPTION:Join a Pokemon GO hike at Blackbird Creek Reserve.
X-ALT-DESC;FMTTYPE=text/html:<p>Join a Pokemon GO hike at Blackbird Cr
 eek Reserve.</p>\n
URL:https://dnrec.delaware.gov/events/pokemon-go-hike-at-blackbird-2/?
 lang=en
ATTACH:https://dnrec.delaware.gov/events/pokemon-go-hike-at-blackbird-
 2/?lang=en
LOCATION:Blackbird Creek Reserve\, 801 Blackbird Landing Rd.\, Townsen
 d
END:VEVENT
END:VCALENDAR
