BEGIN:VCALENDAR
VERSION:2.0
METHOD:PUBLISH
PRODID:-//hacksw/handcal//NONSGML v1.0//EN
BEGIN:VEVENT
DTSTAMP:20260423T100831Z
DTSTART:20190227T220000Z
DTEND:20190228T010000Z
UID:20190227T220000Z-20190228T010000Z-226@dnrec.delaware.gov
SUMMARY:Coastal Zone Conversion Permit Open House
DESCRIPTION:Learn about\, and comment on\, preliminary recommendations
  from the Coastal Zone Conversion Permit Act Regulatory Advisory Commi
 ttee for changes to the Delaware Coastal Zone Act regulations.
X-ALT-DESC;FMTTYPE=text/html:<p>Learn about\, and comment on\, prelimi
 nary recommendations from the Coastal Zone Conversion Permit Act Regul
 atory Advisory Committee for changes to the Delaware Coastal Zone Act 
 regulations.</p>\n
URL:https://dnrec.delaware.gov/events/226/coastal-zone-conversion-perm
 it-open-house/?lang=en
ATTACH:https://dnrec.delaware.gov/events/226/coastal-zone-conversion-p
 ermit-open-house/?lang=en
LOCATION:Elbert Palmer Elementary School\, 1210 Lobdell Street\, Wilmi
 ngton
END:VEVENT
END:VCALENDAR
