BEGIN:VCALENDAR
VERSION:2.0
METHOD:PUBLISH
PRODID:-//hacksw/handcal//NONSGML v1.0//EN
BEGIN:VEVENT
DTSTAMP:20260422T170343Z
DTSTART:20240618T180000Z
DTEND:20240618T193000Z
UID:20240618T180000Z-20240618T193000Z-2170@dnrec.delaware.gov
SUMMARY:SCORP Technical Advisory Committee
DESCRIPTION:A virtual meeting of the Technical Advisory Committee for 
 the 2024-2029 Statewide Comprehensive Outdoor Recreation Plan (SCORP).
X-ALT-DESC;FMTTYPE=text/html:<p>A virtual meeting of the Technical Adv
 isory Committee for the 2024-2029 Statewide Comprehensive Outdoor Recr
 eation Plan (SCORP).</p>\n
URL:https://dnrec.delaware.gov/events/scorp-technical-advisory-committ
 ee-4/?lang=en
ATTACH:https://dnrec.delaware.gov/events/scorp-technical-advisory-comm
 ittee-4/?lang=en
LOCATION:A Virtual Meeting\, See Connection Information\,
END:VEVENT
END:VCALENDAR
