BEGIN:VCALENDAR
VERSION:2.0
METHOD:PUBLISH
PRODID:-//hacksw/handcal//NONSGML v1.0//EN
BEGIN:VEVENT
DTSTAMP:20260423T050923Z
DTSTART:20240709T220000Z
DTEND:20240709T230000Z
UID:20240709T220000Z-20240709T230000Z-2151@dnrec.delaware.gov
SUMMARY:DNREC Joint Permitting Hearing: US Wind Project
DESCRIPTION:The DNREC Division of Water and Division of Watershed Stew
 ardship will conduct a joint public hearing (Docket #2024-P-MULTI-0007
 ) to consider comments on permit requests related to an offshore wind 
 project located offshore of the state of Maryland. Public comment peri
 od closed.
X-ALT-DESC;FMTTYPE=text/html:<p>The DNREC Division of Water and Divisi
 on of Watershed Stewardship will conduct a joint public hearing (Docke
 t #2024-P-MULTI-0007) to consider comments on permit requests related 
 to an offshore wind project located offshore of the state of Maryland.
  <strong>Public comment period closed.</strong></p>\n
URL:https://dnrec.delaware.gov/events/dnrec-joint-permitting-hearing-u
 s-wind-project/?lang=en
ATTACH:https://dnrec.delaware.gov/events/dnrec-joint-permitting-hearin
 g-us-wind-project/?lang=en
LOCATION:A Virtual Hearing\, See Connection Information\,
END:VEVENT
END:VCALENDAR
