BEGIN:VCALENDAR
VERSION:2.0
METHOD:PUBLISH
PRODID:-//hacksw/handcal//NONSGML v1.0//EN
BEGIN:VEVENT
DTSTAMP:20260421T203218Z
DTSTART:20240525T130000Z
DTEND:20240525T160000Z
UID:20240525T130000Z-20240525T160000Z-2116@dnrec.delaware.gov
SUMMARY:Take A Kid Fishing!
DESCRIPTION:Bring a kid out for free fishing lessons with the DNREC Ta
 ke a Kid Fishing! program.
X-ALT-DESC;FMTTYPE=text/html:<p>Bring a kid out for free fishing lesso
 ns with the DNREC Take a Kid Fishing! program.</p>\n
URL:https://dnrec.delaware.gov/events/take-a-kid-fishing-41/?lang=en
ATTACH:https://dnrec.delaware.gov/events/take-a-kid-fishing-41/?lang=e
 n
LOCATION:Lums Pond State Park\, 1068 Howell School Road\, Bear
END:VEVENT
END:VCALENDAR
