BEGIN:VCALENDAR
VERSION:2.0
METHOD:PUBLISH
PRODID:-//hacksw/handcal//NONSGML v1.0//EN
BEGIN:VEVENT
DTSTAMP:20260421T220003Z
DTSTART:20240504T130000Z
DTEND:20240504T160000Z
UID:20240504T130000Z-20240504T160000Z-2111@dnrec.delaware.gov
SUMMARY:Take A Kid Fishing!
DESCRIPTION:Bring a kid out for free fishing lessons with the DNREC Ta
 ke a Kid Fishing! program.
X-ALT-DESC;FMTTYPE=text/html:<p>Bring a kid out for free fishing lesso
 ns with the DNREC Take a Kid Fishing! program.</p>\n
URL:https://dnrec.delaware.gov/events/take-a-kid-fishing-36/?lang=en
ATTACH:https://dnrec.delaware.gov/events/take-a-kid-fishing-36/?lang=e
 n
LOCATION:Aquatic Resources Education Center\, 2520 Lighthouse Road\, S
 myrna
END:VEVENT
END:VCALENDAR
