BEGIN:VCALENDAR
VERSION:2.0
METHOD:PUBLISH
PRODID:-//hacksw/handcal//NONSGML v1.0//EN
BEGIN:VEVENT
DTSTAMP:20260421T202603Z
DTSTART:20240602T120000Z
DTEND:20240602T200000Z
UID:20240602T120000Z-20240602T200000Z-2104@dnrec.delaware.gov
SUMMARY:Boating Safety Class
DESCRIPTION:Earn your Delaware Safe Boating Certificate with this cour
 se.
X-ALT-DESC;FMTTYPE=text/html:<p>Earn your Delaware Safe Boating Certif
 icate with this course.</p>\n
URL:https://dnrec.delaware.gov/events/delaware-boating-safety-class-5/
 ?lang=en
ATTACH:https://dnrec.delaware.gov/events/delaware-boating-safety-class
 -5/?lang=en
LOCATION:Pot-Nets Lakeside Community Center\, 33076 Rock Cove\, Millsb
 oro
END:VEVENT
END:VCALENDAR
