BEGIN:VCALENDAR
VERSION:2.0
METHOD:PUBLISH
PRODID:-//hacksw/handcal//NONSGML v1.0//EN
BEGIN:VEVENT
DTSTAMP:20260421T215438Z
DTSTART:20240303T130000Z
DTEND:20240303T180000Z
UID:20240303T130000Z-20240303T180000Z-2073@dnrec.delaware.gov
SUMMARY:Turkey Hunting Course
DESCRIPTION:Earn your turkey hunting safety certification in time for 
 Delaware’s turkey hunting season.
X-ALT-DESC;FMTTYPE=text/html:<p>Earn your turkey hunting safety certif
 ication in time for Delaware&#8217\;s turkey hunting season.</p>\n
URL:https://dnrec.delaware.gov/events/turkey-hunting-course-6/?lang=en
ATTACH:https://dnrec.delaware.gov/events/turkey-hunting-course-6/?lang
 =en
LOCATION:Lewes Fire Department Station #2 (Nassau)\, 32198 Janice Road
 \, Lewes
END:VEVENT
END:VCALENDAR
