BEGIN:VCALENDAR
VERSION:2.0
METHOD:PUBLISH
PRODID:-//hacksw/handcal//NONSGML v1.0//EN
BEGIN:VEVENT
DTSTAMP:20260421T203213Z
DTSTART:20240427T140000Z
DTEND:20240427T153000Z
UID:20240427T140000Z-20240427T153000Z-2072@dnrec.delaware.gov
SUMMARY:Earth Day Seedling Potting at the St. Jones Reserve
DESCRIPTION:Join Reserve staff at the St. Jones Reserve in celebration
  of Earth Day to pot native plant seedlings!
X-ALT-DESC;FMTTYPE=text/html:<p>Join Reserve staff at the St. Jones Re
 serve in celebration of Earth Day to pot native plant seedlings! </p>\
 n
URL:https://dnrec.delaware.gov/events/earth-day-seedling-potting-event
 -2/?lang=en
ATTACH:https://dnrec.delaware.gov/events/earth-day-seedling-potting-ev
 ent-2/?lang=en
LOCATION:St. Jones Reserve\, 818 Kitts Hummock Rd.\, Dover
END:VEVENT
END:VCALENDAR
