BEGIN:VCALENDAR
VERSION:2.0
METHOD:PUBLISH
PRODID:-//hacksw/handcal//NONSGML v1.0//EN
BEGIN:VEVENT
DTSTAMP:20260425T195120Z
DTSTART:20240309T130000Z
DTEND:20240309T180000Z
UID:20240309T130000Z-20240309T180000Z-2070@dnrec.delaware.gov
SUMMARY:Turkey Hunting Course
DESCRIPTION:Earn your turkey hunting safety certification in time for 
 Delaware’s turkey hunting season.
X-ALT-DESC;FMTTYPE=text/html:<p>Earn your turkey hunting safety certif
 ication in time for Delaware&#8217\;s turkey hunting season.</p>\n
URL:https://dnrec.delaware.gov/events/turkey-hunting-course-5/?lang=en
ATTACH:https://dnrec.delaware.gov/events/turkey-hunting-course-5/?lang
 =en
LOCATION:Little Creek Hunter Education Training Center\, 3018 Bayside 
 Drive\, Dover
END:VEVENT
END:VCALENDAR
