BEGIN:VCALENDAR
VERSION:2.0
METHOD:PUBLISH
PRODID:-//hacksw/handcal//NONSGML v1.0//EN
BEGIN:VEVENT
DTSTAMP:20260421T202555Z
DTSTART:20240504T170000Z
DTEND:20240504T200000Z
UID:20240504T170000Z-20240504T200000Z-2041@dnrec.delaware.gov
SUMMARY:Boating Safety Class
DESCRIPTION:Earn your Delaware Safe Boating Certificate with this thre
 e-session course.
X-ALT-DESC;FMTTYPE=text/html:<p>Earn your Delaware Safe Boating Certif
 icate with this three-session course.</p>\n
URL:https://dnrec.delaware.gov/events/boating-safety-class-6/?lang=en
ATTACH:https://dnrec.delaware.gov/events/boating-safety-class-6/?lang=
 en
LOCATION:New Castle Sailing Club\, 614 South Street\, New Castle
END:VEVENT
END:VCALENDAR
