BEGIN:VCALENDAR
VERSION:2.0
METHOD:PUBLISH
PRODID:-//hacksw/handcal//NONSGML v1.0//EN
BEGIN:VEVENT
DTSTAMP:20260421T220001Z
DTSTART:20240625T130000Z
DTEND:20240627T200000Z
UID:20240625T130000Z-20240627T200000Z-2039@dnrec.delaware.gov
SUMMARY:Virtual Workshop: Planning Effective Projects for Coastal Comm
 unities
DESCRIPTION:Join a three-day virtual workshop to learn how to plan eff
 ective projects for coastal communities.
X-ALT-DESC;FMTTYPE=text/html:<p>Join a three-day virtual workshop to l
 earn how to plan effective projects for coastal communities.</p>\n
URL:https://dnrec.delaware.gov/events/virtual-workshop-planning-effect
 ive-projects-for-coastal-communities/?lang=en
ATTACH:https://dnrec.delaware.gov/events/virtual-workshop-planning-eff
 ective-projects-for-coastal-communities/?lang=en
LOCATION:A Virtual Workshop\, See Registration Information\,
END:VEVENT
END:VCALENDAR
