BEGIN:VCALENDAR
VERSION:2.0
METHOD:PUBLISH
PRODID:-//hacksw/handcal//NONSGML v1.0//EN
BEGIN:VEVENT
DTSTAMP:20260426T011801Z
DTSTART:20240918T130000Z
DTEND:20240918T160000Z
UID:20240918T130000Z-20240918T160000Z-1988@dnrec.delaware.gov
SUMMARY:Water Infrastructure Advisory Council
DESCRIPTION:A meeting to discuss clean water\, drinking water\, and st
 ormwater issues.
X-ALT-DESC;FMTTYPE=text/html:<p>A meeting to discuss clean water\, dri
 nking water\, and stormwater issues.</p>\n
URL:https://dnrec.delaware.gov/events/water-infrastructure-advisory-co
 uncil-25/?lang=en
ATTACH:https://dnrec.delaware.gov/events/water-infrastructure-advisory
 -council-25/?lang=en
LOCATION:Michael Izzo Conference Room\, Sussex County Building\, 2 The
  Circle\, Georgetown
END:VEVENT
END:VCALENDAR
