BEGIN:VCALENDAR
VERSION:2.0
METHOD:PUBLISH
PRODID:-//hacksw/handcal//NONSGML v1.0//EN
BEGIN:VEVENT
DTSTAMP:20260425T102919Z
DTSTART:20240904T130000Z
DTEND:20240904T150000Z
UID:20240904T130000Z-20240904T150000Z-1980@dnrec.delaware.gov
SUMMARY:WIAC Surface Water Subcommittee
DESCRIPTION:A meeting to review materials for the Water Infrastructure
  Advisory Council (WIAC).
X-ALT-DESC;FMTTYPE=text/html:<p>A meeting to review materials for the 
 Water Infrastructure Advisory Council (WIAC). </p>\n
URL:https://dnrec.delaware.gov/events/wiac-surface-water-subcommittee-
 11/?lang=en
ATTACH:https://dnrec.delaware.gov/events/wiac-surface-water-subcommitt
 ee-11/?lang=en
LOCATION:A Virtual Meeting\, See Connection Information\,
END:VEVENT
END:VCALENDAR
