BEGIN:VCALENDAR
VERSION:2.0
METHOD:PUBLISH
PRODID:-//hacksw/handcal//NONSGML v1.0//EN
BEGIN:VEVENT
DTSTAMP:20260425T115016Z
DTSTART:20241127T130000Z
DTEND:20241127T150000Z
UID:20241127T130000Z-20241127T150000Z-1977@dnrec.delaware.gov
SUMMARY:WIAC Wastewater Subcommittee
DESCRIPTION:A meeting to review materials for the Water Infrastructure
  Advisory Council (WIAC).
X-ALT-DESC;FMTTYPE=text/html:<p>A meeting to review materials for the 
 Water Infrastructure Advisory Council (WIAC).</p>\n
URL:https://dnrec.delaware.gov/events/wiac-wastewater-subcommittee-11/
 ?lang=en
ATTACH:https://dnrec.delaware.gov/events/wiac-wastewater-subcommittee-
 11/?lang=en
LOCATION:To Be Announced\, \, Dover
END:VEVENT
END:VCALENDAR
