BEGIN:VCALENDAR
VERSION:2.0
METHOD:PUBLISH
PRODID:-//hacksw/handcal//NONSGML v1.0//EN
BEGIN:VEVENT
DTSTAMP:20260425T115015Z
DTSTART:20240905T120000Z
DTEND:20240905T140000Z
UID:20240905T120000Z-20240905T140000Z-1976@dnrec.delaware.gov
SUMMARY:WIAC Wastewater Subcommittee
DESCRIPTION:A meeting to review materials for the Water Infrastructure
  Advisory Council (WIAC).
X-ALT-DESC;FMTTYPE=text/html:<p>A meeting to review materials for the 
 Water Infrastructure Advisory Council (WIAC).</p>\n
URL:https://dnrec.delaware.gov/events/wiac-wastewater-subcommittee-10/
 ?lang=en
ATTACH:https://dnrec.delaware.gov/events/wiac-wastewater-subcommittee-
 10/?lang=en
LOCATION:Becker Morgan Group\, Inc.\, 309 S. Governors Ave.\, Dover
END:VEVENT
END:VCALENDAR
