BEGIN:VCALENDAR
VERSION:2.0
METHOD:PUBLISH
PRODID:-//hacksw/handcal//NONSGML v1.0//EN
BEGIN:VEVENT
DTSTAMP:20260425T195119Z
DTSTART:20231107T230000Z
DTEND:20231108T010000Z
UID:20231107T230000Z-20231108T010000Z-1926@dnrec.delaware.gov
SUMMARY:Public Hearing: Noramco Inc. Application for Natural Minor Con
 struction Permit
DESCRIPTION:The Division of Air Quality\, will conduct a public hearin
 g (Docket #2023-P-A-0018) on an application by Noramco\, inc.\, to ins
 tall a new vacuum pump and add a new production line at their Swedes L
 anding Road facility in New Castle County. Public comment period close
 d.
X-ALT-DESC;FMTTYPE=text/html:<p>The Division of Air Quality\, will con
 duct a public hearing (Docket #2023-P-A-0018) on an application by Nor
 amco\, inc.\, to install a new vacuum pump and add a new production li
 ne at their Swedes Landing Road facility in New Castle County. <strong
 >Public comment period closed.</strong></p>\n
URL:https://dnrec.delaware.gov/events/public-hearing-noramco-inc-appli
 cation-for-natural-minor-construction-permit/?lang=en
ATTACH:https://dnrec.delaware.gov/events/public-hearing-noramco-inc-ap
 plication-for-natural-minor-construction-permit/?lang=en
LOCATION:A Virtual Hearing\, See Connection Information\,
END:VEVENT
END:VCALENDAR
