BEGIN:VCALENDAR
VERSION:2.0
METHOD:PUBLISH
PRODID:-//hacksw/handcal//NONSGML v1.0//EN
BEGIN:VEVENT
DTSTAMP:20260425T212105Z
DTSTART:20230805T150000Z
DTEND:20230805T190000Z
UID:20230805T150000Z-20230805T190000Z-1756@dnrec.delaware.gov
SUMMARY:Recycled Cardboard Boat Regatta
DESCRIPTION:Build a boat from recycled cardboard and see if you can pa
 ddle it to the finish line.
X-ALT-DESC;FMTTYPE=text/html:<p>Build a boat from recycled cardboard a
 nd see if you can paddle it to the finish line.</p>\n
URL:https://dnrec.delaware.gov/events/recycled-cardboard-boat-regatta/
 ?lang=en
ATTACH:https://dnrec.delaware.gov/events/recycled-cardboard-boat-regat
 ta/?lang=en
LOCATION:Nanticoke River Public Marine Park\, 26 Market Street\, Blade
 s
END:VEVENT
END:VCALENDAR
