BEGIN:VCALENDAR
VERSION:2.0
METHOD:PUBLISH
PRODID:-//hacksw/handcal//NONSGML v1.0//EN
BEGIN:VEVENT
DTSTAMP:20260422T140233Z
DTSTART:20230510T140000Z
DTEND:20230510T153000Z
UID:20230510T140000Z-20230510T153000Z-1739@dnrec.delaware.gov
SUMMARY:SCORP Technical Advisory Committee
DESCRIPTION:A focus group meeting of the Technical Advisory Committee 
 for the 2024-2029 Statewide Comprehensive Outdoor Recreation Plan (SCO
 RP).
X-ALT-DESC;FMTTYPE=text/html:<p>A focus group meeting of the Technical
  Advisory Committee for the 2024-2029 Statewide Comprehensive Outdoor 
 Recreation Plan (SCORP).</p>\n
URL:https://dnrec.delaware.gov/events/scorp-technical-advisory-committ
 ee-3/?lang=en
ATTACH:https://dnrec.delaware.gov/events/scorp-technical-advisory-comm
 ittee-3/?lang=en
LOCATION:A Virtual Meeting\, See Connection Information\,
END:VEVENT
END:VCALENDAR
