BEGIN:VCALENDAR
VERSION:2.0
METHOD:PUBLISH
PRODID:-//hacksw/handcal//NONSGML v1.0//EN
BEGIN:VEVENT
DTSTAMP:20260425T102922Z
DTSTART:20230510T180000Z
DTEND:20230510T193000Z
UID:20230510T180000Z-20230510T193000Z-1734@dnrec.delaware.gov
SUMMARY:WIAC Drinking Water Subcommittee
DESCRIPTION:A meeting of the WIAC Drinking Water Subcommittee to revie
 w drinking water planning grants and drinking water projects.
X-ALT-DESC;FMTTYPE=text/html:<p>A meeting of the WIAC Drinking Water S
 ubcommittee to review drinking water planning grants and drinking wate
 r projects.</p>\n
URL:https://dnrec.delaware.gov/events/wiac-drinking-water-subcommittee
 -10/?lang=en
ATTACH:https://dnrec.delaware.gov/events/wiac-drinking-water-subcommit
 tee-10/?lang=en
LOCATION:A Virtual Meeting\, See Connection Information\,
END:VEVENT
END:VCALENDAR
